Package: QuasR Version: 1.49.3 Command: /home/biocbuild/R/R/bin/R CMD INSTALL QuasR StartedAt: 2025-10-09 22:06:57 -0000 (Thu, 09 Oct 2025) EndedAt: 2025-10-09 22:08:25 -0000 (Thu, 09 Oct 2025) EllapsedTime: 88.0 seconds RetCode: 0 Status: OK