Package: QuasR Version: 1.49.3 Command: /home/biocbuild/R/R/bin/R CMD build --keep-empty-dirs --no-resave-data QuasR StartedAt: 2025-10-10 03:14:52 -0000 (Fri, 10 Oct 2025) EndedAt: 2025-10-10 03:20:51 -0000 (Fri, 10 Oct 2025) EllapsedTime: 359.4 seconds RetCode: 0 Status: OK PackageFile: QuasR_1.49.3.tar.gz PackageFileSize: 1.889 MiB