Package: QuasR Version: 1.49.3 Command: /home/biocbuild/bbs-3.22-bioc/R/bin/R CMD check --install=check:QuasR.install-out.txt --library=/home/biocbuild/bbs-3.22-bioc/R/site-library --timings QuasR_1.49.3.tar.gz StartedAt: 2025-10-10 03:17:31 -0400 (Fri, 10 Oct 2025) EndedAt: 2025-10-10 03:30:19 -0400 (Fri, 10 Oct 2025) EllapsedTime: 767.0 seconds RetCode: 0 Status: WARNINGS CheckDir: QuasR.Rcheck Warnings: 1