Package: QuasR Version: 1.51.0 Command: /home/biocbuild/bbs-3.23-bioc/R/bin/R CMD INSTALL QuasR StartedAt: 2025-11-05 16:04:21 -0500 (Wed, 05 Nov 2025) EndedAt: 2025-11-05 16:05:29 -0500 (Wed, 05 Nov 2025) EllapsedTime: 67.3 seconds RetCode: 0 Status: OK