Package: QuasR Version: 1.51.0 Command: /home/biocbuild/bbs-3.23-bioc/R/bin/R CMD check --install=check:QuasR.install-out.txt --library=/home/biocbuild/bbs-3.23-bioc/R/site-library --timings QuasR_1.51.0.tar.gz StartedAt: 2025-11-15 03:04:34 -0500 (Sat, 15 Nov 2025) EndedAt: 2025-11-15 03:17:38 -0500 (Sat, 15 Nov 2025) EllapsedTime: 784.4 seconds RetCode: 0 Status: WARNINGS CheckDir: QuasR.Rcheck Warnings: 2