Package: QuasR Version: 1.51.0 Command: /Library/Frameworks/R.framework/Resources/bin/R CMD INSTALL QuasR StartedAt: 2025-11-23 16:00:04 -0500 (Sun, 23 Nov 2025) EndedAt: 2025-11-23 16:01:29 -0500 (Sun, 23 Nov 2025) EllapsedTime: 84.6 seconds RetCode: 0 Status: OK