Package: QuasR Version: 1.51.0 Command: /Library/Frameworks/R.framework/Resources/bin/R CMD check --install=check:QuasR.install-out.txt --library=/Library/Frameworks/R.framework/Resources/library --no-vignettes --timings QuasR_1.51.0.tar.gz StartedAt: 2025-11-25 23:39:09 -0500 (Tue, 25 Nov 2025) EndedAt: 2025-11-25 23:50:20 -0500 (Tue, 25 Nov 2025) EllapsedTime: 671.2 seconds RetCode: 0 Status: WARNINGS CheckDir: QuasR.Rcheck Warnings: 2