Package: QuasR Version: 1.51.0 Command: /Library/Frameworks/R.framework/Resources/bin/R CMD build --keep-empty-dirs --no-resave-data QuasR StartedAt: 2025-11-23 18:23:09 -0500 (Sun, 23 Nov 2025) EndedAt: 2025-11-23 18:28:13 -0500 (Sun, 23 Nov 2025) EllapsedTime: 303.5 seconds RetCode: 0 Status: OK PackageFile: QuasR_1.51.0.tar.gz PackageFileSize: 2.406 MiB