Package: QuasR Version: 1.51.0 Command: rm -rf QuasR.buildbin-libdir && mkdir QuasR.buildbin-libdir && /Users/biocbuild/BBS/utils/build-universal.sh QuasR_1.51.0.tar.gz /Library/Frameworks/R.framework/Resources/bin/R QuasR.buildbin-libdir StartedAt: 2025-11-24 01:52:57 -0500 (Mon, 24 Nov 2025) EndedAt: 2025-11-24 01:54:43 -0500 (Mon, 24 Nov 2025) EllapsedTime: 107.0 seconds RetCode: 0 Status: OK PackageFile: QuasR_1.51.0.tgz PackageFileSize: 3.446 MiB