Package: QuartPAC Version: 1.39.1 Command: /home/biocbuild/bbs-3.22-bioc/R/bin/R CMD check --install=check:QuartPAC.install-out.txt --library=/home/biocbuild/bbs-3.22-bioc/R/site-library --timings QuartPAC_1.39.1.tar.gz StartedAt: 2025-04-09 01:41:50 -0400 (Wed, 09 Apr 2025) EndedAt: 2025-04-09 01:45:45 -0400 (Wed, 09 Apr 2025) EllapsedTime: 235.3 seconds RetCode: 0 Status: OK CheckDir: QuartPAC.Rcheck Warnings: 0