Package: Qtlizer Version: 1.25.0 Command: /home/biocbuild/bbs-3.23-bioc/R/bin/R CMD build --keep-empty-dirs --no-resave-data Qtlizer StartedAt: 2025-11-06 19:20:57 -0500 (Thu, 06 Nov 2025) EndedAt: 2025-11-06 19:21:12 -0500 (Thu, 06 Nov 2025) EllapsedTime: 14.0 seconds RetCode: 0 Status: OK PackageFile: Qtlizer_1.25.0.tar.gz PackageFileSize: 223.3 KiB