Package: QUBIC Version: 1.39.0 Command: /home/biocbuild/bbs-3.23-bioc/R/bin/R CMD INSTALL QUBIC StartedAt: 2025-11-20 15:10:12 -0500 (Thu, 20 Nov 2025) EndedAt: 2025-11-20 15:10:47 -0500 (Thu, 20 Nov 2025) EllapsedTime: 34.8 seconds RetCode: 0 Status: OK