Package: QUBIC Version: 1.37.0 Command: /Library/Frameworks/R.framework/Resources/bin/R CMD INSTALL QUBIC StartedAt: 2025-10-22 15:06:21 -0400 (Wed, 22 Oct 2025) EndedAt: 2025-10-22 15:06:33 -0400 (Wed, 22 Oct 2025) EllapsedTime: 12.9 seconds RetCode: 0 Status: OK