Package: QUBIC Version: 1.37.0 Command: /Library/Frameworks/R.framework/Resources/bin/R CMD build --keep-empty-dirs --no-resave-data QUBIC StartedAt: 2025-10-21 17:27:41 -0400 (Tue, 21 Oct 2025) EndedAt: 2025-10-21 17:28:23 -0400 (Tue, 21 Oct 2025) EllapsedTime: 42.5 seconds RetCode: 0 Status: OK PackageFile: QUBIC_1.37.0.tar.gz PackageFileSize: 493.8 KiB