Package: QTLExperiment Version: 2.3.0 Command: /home/biocbuild/bbs-3.23-bioc/R/bin/R CMD INSTALL QTLExperiment StartedAt: 2025-11-20 15:24:02 -0500 (Thu, 20 Nov 2025) EndedAt: 2025-11-20 15:24:28 -0500 (Thu, 20 Nov 2025) EllapsedTime: 26.0 seconds RetCode: 0 Status: OK