Package: QTLExperiment Version: 2.3.0 Command: /home/biocbuild/bbs-3.23-bioc/R/bin/R CMD build --keep-empty-dirs --no-resave-data QTLExperiment StartedAt: 2025-11-20 19:26:36 -0500 (Thu, 20 Nov 2025) EndedAt: 2025-11-20 19:27:14 -0500 (Thu, 20 Nov 2025) EllapsedTime: 38.0 seconds RetCode: 0 Status: OK PackageFile: QTLExperiment_2.3.0.tar.gz PackageFileSize: 613.5 KiB