Package: QTLExperiment Version: 2.1.3 Command: /Library/Frameworks/R.framework/Resources/bin/R CMD INSTALL QTLExperiment StartedAt: 2025-10-27 15:23:39 -0400 (Mon, 27 Oct 2025) EndedAt: 2025-10-27 15:24:14 -0400 (Mon, 27 Oct 2025) EllapsedTime: 35.5 seconds RetCode: 0 Status: OK