Package: QTLExperiment Version: 2.1.3 Command: /Library/Frameworks/R.framework/Resources/bin/R CMD build --keep-empty-dirs --no-resave-data QTLExperiment StartedAt: 2025-10-27 18:15:09 -0400 (Mon, 27 Oct 2025) EndedAt: 2025-10-27 18:15:56 -0400 (Mon, 27 Oct 2025) EllapsedTime: 46.9 seconds RetCode: 0 Status: OK PackageFile: QTLExperiment_2.1.3.tar.gz PackageFileSize: 613.5 KiB