Package: QTLExperiment Version: 2.2.0 Command: rm -rf QTLExperiment.buildbin-libdir && mkdir QTLExperiment.buildbin-libdir && /Users/biocbuild/BBS/utils/build-universal.sh QTLExperiment_2.2.0.tar.gz /Library/Frameworks/R.framework/Resources/bin/R QTLExperiment.buildbin-libdir StartedAt: 2025-10-30 08:32:39 -0400 (Thu, 30 Oct 2025) EndedAt: 2025-10-30 08:33:20 -0400 (Thu, 30 Oct 2025) EllapsedTime: 41.3 seconds RetCode: 0 Status: OK PackageFile: QTLExperiment_2.2.0.tgz PackageFileSize: 1.145 MiB