Package: QTLExperiment Version: 2.1.2 Command: /Library/Frameworks/R.framework/Resources/bin/R CMD INSTALL QTLExperiment StartedAt: 2025-10-09 15:15:54 -0400 (Thu, 09 Oct 2025) EndedAt: 2025-10-09 15:16:05 -0400 (Thu, 09 Oct 2025) EllapsedTime: 11.1 seconds RetCode: 0 Status: OK