Package: QTLExperiment Version: 2.1.2 Command: /Library/Frameworks/R.framework/Resources/bin/R CMD build --keep-empty-dirs --no-resave-data QTLExperiment StartedAt: 2025-10-09 17:24:05 -0400 (Thu, 09 Oct 2025) EndedAt: 2025-10-09 17:24:23 -0400 (Thu, 09 Oct 2025) EllapsedTime: 17.2 seconds RetCode: 0 Status: OK PackageFile: QTLExperiment_2.1.2.tar.gz PackageFileSize: 613 KiB