Package: QTLExperiment Version: 2.1.2 Command: rm -rf QTLExperiment.buildbin-libdir && mkdir QTLExperiment.buildbin-libdir && /Users/biocbuild/BBS/utils/build-universal.sh QTLExperiment_2.1.2.tar.gz /Library/Frameworks/R.framework/Resources/bin/R QTLExperiment.buildbin-libdir StartedAt: 2025-10-09 22:52:44 -0400 (Thu, 09 Oct 2025) EndedAt: 2025-10-09 22:52:56 -0400 (Thu, 09 Oct 2025) EllapsedTime: 12.2 seconds RetCode: 0 Status: OK PackageFile: QTLExperiment_2.1.2.tgz PackageFileSize: 1.141 MiB