Package: QSutils Version: 1.27.0 Command: /home/biocbuild/R/R/bin/R CMD INSTALL QSutils StartedAt: 2025-10-13 21:37:48 -0000 (Mon, 13 Oct 2025) EndedAt: 2025-10-13 21:38:03 -0000 (Mon, 13 Oct 2025) EllapsedTime: 14.5 seconds RetCode: 0 Status: OK