Package: QSutils Version: 1.27.0 Command: /home/biocbuild/R/R/bin/R CMD build --keep-empty-dirs --no-resave-data QSutils StartedAt: 2025-10-14 02:45:33 -0000 (Tue, 14 Oct 2025) EndedAt: 2025-10-14 02:47:27 -0000 (Tue, 14 Oct 2025) EllapsedTime: 114.1 seconds RetCode: 0 Status: OK PackageFile: QSutils_1.27.0.tar.gz PackageFileSize: 1.386 MiB