Package: QSutils Version: 1.27.0 Command: F:\biocbuild\bbs-3.22-bioc\R\bin\R.exe CMD INSTALL QSutils StartedAt: 2025-08-14 16:46:14 -0400 (Thu, 14 Aug 2025) EndedAt: 2025-08-14 16:46:43 -0400 (Thu, 14 Aug 2025) EllapsedTime: 29.1 seconds RetCode: 0 Status: OK