Package: QSutils Version: 1.29.0 Command: /home/biocbuild/bbs-3.23-bioc/R/bin/R CMD check --install=check:QSutils.install-out.txt --library=/home/biocbuild/bbs-3.23-bioc/R/site-library --timings QSutils_1.29.0.tar.gz StartedAt: 2025-11-27 02:55:53 -0500 (Thu, 27 Nov 2025) EndedAt: 2025-11-27 02:57:58 -0500 (Thu, 27 Nov 2025) EllapsedTime: 124.1 seconds RetCode: 0 Status: OK CheckDir: QSutils.Rcheck Warnings: 0