Package: QRscore Version: 1.3.0 Command: /home/biocbuild/bbs-3.23-bioc/R/bin/R CMD INSTALL QRscore StartedAt: 2025-11-07 15:09:12 -0500 (Fri, 07 Nov 2025) EndedAt: 2025-11-07 15:09:19 -0500 (Fri, 07 Nov 2025) EllapsedTime: 6.9 seconds RetCode: 0 Status: OK