Package: QFeatures Version: 1.19.2 Command: /home/biocbuild/R/R/bin/R CMD INSTALL QFeatures StartedAt: 2025-10-16 21:53:30 -0000 (Thu, 16 Oct 2025) EndedAt: 2025-10-16 21:54:08 -0000 (Thu, 16 Oct 2025) EllapsedTime: 38.6 seconds RetCode: 0 Status: OK