Package: QFeatures Version: 1.19.2 Command: /home/biocbuild/R/R/bin/R CMD build --keep-empty-dirs --no-resave-data QFeatures StartedAt: 2025-10-17 03:44:47 -0000 (Fri, 17 Oct 2025) EndedAt: 2025-10-17 03:46:48 -0000 (Fri, 17 Oct 2025) EllapsedTime: 121.1 seconds RetCode: 0 Status: OK PackageFile: QFeatures_1.19.2.tar.gz PackageFileSize: 4.771 MiB