Package: QFeatures Version: 1.21.0 Command: /home/biocbuild/bbs-3.23-bioc/R/bin/R CMD build --keep-empty-dirs --no-resave-data QFeatures StartedAt: 2025-11-05 19:27:25 -0500 (Wed, 05 Nov 2025) EndedAt: 2025-11-05 19:28:49 -0500 (Wed, 05 Nov 2025) EllapsedTime: 84.1 seconds RetCode: 0 Status: OK PackageFile: QFeatures_1.21.0.tar.gz PackageFileSize: 5.511 MiB