Package: QDNAseq Version: 1.47.0 Command: /home/biocbuild/bbs-3.23-bioc/R/bin/R CMD INSTALL QDNAseq StartedAt: 2025-11-05 15:22:45 -0500 (Wed, 05 Nov 2025) EndedAt: 2025-11-05 15:23:03 -0500 (Wed, 05 Nov 2025) EllapsedTime: 17.7 seconds RetCode: 0 Status: OK