Package: QDNAseq Version: 1.45.1 Command: /Library/Frameworks/R.framework/Resources/bin/R CMD INSTALL QDNAseq StartedAt: 2025-10-14 15:19:07 -0400 (Tue, 14 Oct 2025) EndedAt: 2025-10-14 15:19:35 -0400 (Tue, 14 Oct 2025) EllapsedTime: 28.0 seconds RetCode: 0 Status: OK