Package: QDNAseq Version: 1.45.1 Command: /Library/Frameworks/R.framework/Resources/bin/R CMD build --keep-empty-dirs --no-resave-data QDNAseq StartedAt: 2025-10-14 18:48:47 -0400 (Tue, 14 Oct 2025) EndedAt: 2025-10-14 18:49:52 -0400 (Tue, 14 Oct 2025) EllapsedTime: 65.3 seconds RetCode: 0 Status: OK PackageFile: QDNAseq_1.45.1.tar.gz PackageFileSize: 992.9 KiB