Package: QDNAseq Version: 1.45.1 Command: rm -rf QDNAseq.buildbin-libdir && mkdir QDNAseq.buildbin-libdir && /Users/biocbuild/BBS/utils/build-universal.sh QDNAseq_1.45.1.tar.gz /Library/Frameworks/R.framework/Resources/bin/R QDNAseq.buildbin-libdir StartedAt: 2025-10-15 03:01:38 -0400 (Wed, 15 Oct 2025) EndedAt: 2025-10-15 03:02:08 -0400 (Wed, 15 Oct 2025) EllapsedTime: 30.2 seconds RetCode: 0 Status: OK PackageFile: QDNAseq_1.45.1.tgz PackageFileSize: 1.531 MiB