Package: Pviz Version: 1.43.0 Command: /home/biocbuild/bbs-3.22-bioc/R/bin/R CMD check --install=check:Pviz.install-out.txt --library=/home/biocbuild/bbs-3.22-bioc/R/site-library --timings Pviz_1.43.0.tar.gz StartedAt: 2025-10-15 03:16:13 -0400 (Wed, 15 Oct 2025) EndedAt: 2025-10-15 03:22:16 -0400 (Wed, 15 Oct 2025) EllapsedTime: 363.3 seconds RetCode: 0 Status: WARNINGS CheckDir: Pviz.Rcheck Warnings: 1