Package: Pviz Version: 1.45.0 Command: /home/biocbuild/bbs-3.23-bioc/R/bin/R CMD INSTALL Pviz StartedAt: 2025-11-05 15:54:37 -0500 (Wed, 05 Nov 2025) EndedAt: 2025-11-05 15:55:59 -0500 (Wed, 05 Nov 2025) EllapsedTime: 82.5 seconds RetCode: 0 Status: OK