Package: Pviz Version: 1.45.0 Command: /home/biocbuild/bbs-3.23-bioc/R/bin/R CMD check --install=check:Pviz.install-out.txt --library=/home/biocbuild/bbs-3.23-bioc/R/site-library --timings Pviz_1.45.0.tar.gz StartedAt: 2025-11-24 02:51:13 -0500 (Mon, 24 Nov 2025) EndedAt: 2025-11-24 02:57:25 -0500 (Mon, 24 Nov 2025) EllapsedTime: 372.5 seconds RetCode: 0 Status: WARNINGS CheckDir: Pviz.Rcheck Warnings: 1