Package: Pviz Version: 1.45.0 Command: /home/biocbuild/bbs-3.23-bioc/R/bin/R CMD build --keep-empty-dirs --no-resave-data Pviz StartedAt: 2025-11-04 19:19:47 -0500 (Tue, 04 Nov 2025) EndedAt: 2025-11-04 19:21:36 -0500 (Tue, 04 Nov 2025) EllapsedTime: 109.1 seconds RetCode: 0 Status: OK PackageFile: Pviz_1.45.0.tar.gz PackageFileSize: 203.6 KiB