Package: PureCN Version: 2.17.0 Command: /home/biocbuild/bbs-3.23-bioc/R/bin/R CMD INSTALL PureCN StartedAt: 2025-11-05 15:52:14 -0500 (Wed, 05 Nov 2025) EndedAt: 2025-11-05 15:53:04 -0500 (Wed, 05 Nov 2025) EllapsedTime: 50.3 seconds RetCode: 0 Status: OK