Package: PureCN Version: 2.17.0 Command: /home/biocbuild/bbs-3.23-bioc/R/bin/R CMD build --keep-empty-dirs --no-resave-data PureCN StartedAt: 2025-11-05 19:26:15 -0500 (Wed, 05 Nov 2025) EndedAt: 2025-11-05 19:30:20 -0500 (Wed, 05 Nov 2025) EllapsedTime: 244.3 seconds RetCode: 0 Status: OK PackageFile: PureCN_2.17.0.tar.gz PackageFileSize: 5.722 MiB