Package: PureCN Version: 2.15.4 Command: /Library/Frameworks/R.framework/Resources/bin/R CMD build --keep-empty-dirs --no-resave-data PureCN StartedAt: 2025-10-16 19:19:05 -0400 (Thu, 16 Oct 2025) EndedAt: 2025-10-16 19:24:49 -0400 (Thu, 16 Oct 2025) EllapsedTime: 344.5 seconds RetCode: 0 Status: OK PackageFile: PureCN_2.15.4.tar.gz PackageFileSize: 5.72 MiB