Package: PureCN Version: 2.15.4 Command: rm -rf PureCN.buildbin-libdir && mkdir PureCN.buildbin-libdir && /Users/biocbuild/BBS/utils/build-universal.sh PureCN_2.15.4.tar.gz /Library/Frameworks/R.framework/Resources/bin/R PureCN.buildbin-libdir StartedAt: 2025-10-17 04:07:31 -0400 (Fri, 17 Oct 2025) EndedAt: 2025-10-17 04:08:46 -0400 (Fri, 17 Oct 2025) EllapsedTime: 74.3 seconds RetCode: 0 Status: OK PackageFile: PureCN_2.15.4.tgz PackageFileSize: 6.183 MiB