Package: PureCN Version: 2.15.4 Command: /Library/Frameworks/R.framework/Resources/bin/R CMD INSTALL PureCN StartedAt: 2025-10-05 15:23:45 -0400 (Sun, 05 Oct 2025) EndedAt: 2025-10-05 15:24:05 -0400 (Sun, 05 Oct 2025) EllapsedTime: 20.1 seconds RetCode: 0 Status: OK