Package: PureCN Version: 2.15.4 Command: /Library/Frameworks/R.framework/Resources/bin/R CMD build --keep-empty-dirs --no-resave-data PureCN StartedAt: 2025-10-03 17:23:57 -0400 (Fri, 03 Oct 2025) EndedAt: 2025-10-03 17:25:34 -0400 (Fri, 03 Oct 2025) EllapsedTime: 97.2 seconds RetCode: 0 Status: OK PackageFile: PureCN_2.15.4.tar.gz PackageFileSize: 5.723 MiB