Package: PureCN Version: 2.17.0 Maintainer: Markus Riester MaintainerEmail: markus.riester at novartis.com git_url: https://git.bioconductor.org/packages/PureCN git_branch: devel git_last_commit: 3330cff git_last_commit_date: 2025-10-29 10:31:57 -0400 (Wed, 29 Oct 2025)