Package: ProteoMM Version: 1.29.0 Command: /home/biocbuild/bbs-3.23-bioc/R/bin/R CMD INSTALL ProteoMM StartedAt: 2025-11-20 15:25:59 -0500 (Thu, 20 Nov 2025) EndedAt: 2025-11-20 15:26:05 -0500 (Thu, 20 Nov 2025) EllapsedTime: 6.1 seconds RetCode: 0 Status: OK