Package: ProteoMM Version: 1.29.0 Command: /home/biocbuild/bbs-3.23-bioc/R/bin/R CMD build --keep-empty-dirs --no-resave-data ProteoMM StartedAt: 2025-11-20 19:23:26 -0500 (Thu, 20 Nov 2025) EndedAt: 2025-11-20 19:24:00 -0500 (Thu, 20 Nov 2025) EllapsedTime: 34.0 seconds RetCode: 0 Status: OK PackageFile: ProteoMM_1.29.0.tar.gz PackageFileSize: 476 KiB