Package: ProteoMM Version: 1.27.0 Command: /Library/Frameworks/R.framework/Resources/bin/R CMD build --keep-empty-dirs --no-resave-data ProteoMM StartedAt: 2025-10-22 18:14:06 -0400 (Wed, 22 Oct 2025) EndedAt: 2025-10-22 18:14:42 -0400 (Wed, 22 Oct 2025) EllapsedTime: 36.3 seconds RetCode: 0 Status: OK PackageFile: ProteoMM_1.27.0.tar.gz PackageFileSize: 513.1 KiB