Package: ProteoMM Version: 1.27.0 Command: rm -rf ProteoMM.buildbin-libdir && mkdir ProteoMM.buildbin-libdir && /Users/biocbuild/BBS/utils/build-universal.sh ProteoMM_1.27.0.tar.gz /Library/Frameworks/R.framework/Resources/bin/R ProteoMM.buildbin-libdir StartedAt: 2025-10-23 01:49:13 -0400 (Thu, 23 Oct 2025) EndedAt: 2025-10-23 01:49:24 -0400 (Thu, 23 Oct 2025) EllapsedTime: 11.6 seconds RetCode: 0 Status: OK PackageFile: ProteoMM_1.27.0.tgz PackageFileSize: 626.1 KiB