Package: ProteoMM Version: 1.27.0 Command: /Library/Frameworks/R.framework/Resources/bin/R CMD INSTALL ProteoMM StartedAt: 2025-10-10 15:11:17 -0400 (Fri, 10 Oct 2025) EndedAt: 2025-10-10 15:11:20 -0400 (Fri, 10 Oct 2025) EllapsedTime: 3.7 seconds RetCode: 0 Status: OK